Package: flowAI Version: 1.39.0 Command: rm -rf flowAI.buildbin-libdir && mkdir flowAI.buildbin-libdir && /Users/biocbuild/BBS/utils/build-universal.sh flowAI_1.39.0.tar.gz /Library/Frameworks/R.framework/Resources/bin/R flowAI.buildbin-libdir StartedAt: 2025-10-25 01:40:23 -0400 (Sat, 25 Oct 2025) EndedAt: 2025-10-25 01:40:43 -0400 (Sat, 25 Oct 2025) EllapsedTime: 19.7 seconds RetCode: 0 Status: OK PackageFile: flowAI_1.39.0.tgz PackageFileSize: 3.691 MiB