Package: flowAI Version: 1.39.0 Command: /Library/Frameworks/R.framework/Resources/bin/R CMD INSTALL flowAI StartedAt: 2025-10-24 15:10:08 -0400 (Fri, 24 Oct 2025) EndedAt: 2025-10-24 15:10:12 -0400 (Fri, 24 Oct 2025) EllapsedTime: 4.1 seconds RetCode: 0 Status: OK