Package: flowAI Version: 1.39.0 Command: /Library/Frameworks/R.framework/Resources/bin/R CMD build --keep-empty-dirs --no-resave-data flowAI StartedAt: 2025-10-24 16:26:58 -0400 (Fri, 24 Oct 2025) EndedAt: 2025-10-24 16:27:05 -0400 (Fri, 24 Oct 2025) EllapsedTime: 7.1 seconds RetCode: 0 Status: OK PackageFile: flowAI_1.39.0.tar.gz PackageFileSize: 3.748 MiB