Package: flowAI Version: 1.39.0 Command: rm -rf flowAI.buildbin-libdir && mkdir flowAI.buildbin-libdir && /Users/biocbuild/BBS/utils/build-universal.sh flowAI_1.39.0.tar.gz /Library/Frameworks/R.framework/Resources/bin/R flowAI.buildbin-libdir StartedAt: 2025-10-24 23:03:02 -0400 (Fri, 24 Oct 2025) EndedAt: 2025-10-24 23:03:07 -0400 (Fri, 24 Oct 2025) EllapsedTime: 5.1 seconds RetCode: 0 Status: OK PackageFile: flowAI_1.39.0.tgz PackageFileSize: 3.692 MiB