Package: flagme Version: 1.65.0 Command: /home/biocbuild/bbs-3.22-bioc/R/bin/R CMD INSTALL flagme StartedAt: 2025-10-24 15:55:44 -0400 (Fri, 24 Oct 2025) EndedAt: 2025-10-24 15:56:33 -0400 (Fri, 24 Oct 2025) EllapsedTime: 49.0 seconds RetCode: 0 Status: OK