Package: fenr Version: 1.7.1 Command: /home/biocbuild/bbs-3.22-bioc/R/bin/R CMD build --keep-empty-dirs --no-resave-data --md5 fenr StartedAt: 2025-10-24 17:47:45 -0400 (Fri, 24 Oct 2025) EndedAt: 2025-10-24 17:48:09 -0400 (Fri, 24 Oct 2025) EllapsedTime: 24.0 seconds RetCode: 0 Status: OK PackageFile: fenr_1.7.1.tar.gz PackageFileSize: 2 MiB