Package: fedup Version: 1.18.0 Command: /home/biocbuild/bbs-3.22-bioc/R/bin/R CMD INSTALL fedup StartedAt: 2025-10-29 21:29:06 -0400 (Wed, 29 Oct 2025) EndedAt: 2025-10-29 21:29:16 -0400 (Wed, 29 Oct 2025) EllapsedTime: 9.4 seconds RetCode: 0 Status: OK