Package: fedup Version: 1.18.0 Command: /home/biocbuild/bbs-3.22-bioc/R/bin/R CMD build --keep-empty-dirs --no-resave-data --md5 fedup StartedAt: 2025-10-29 23:56:37 -0400 (Wed, 29 Oct 2025) EndedAt: 2025-10-29 23:58:04 -0400 (Wed, 29 Oct 2025) EllapsedTime: 86.1 seconds RetCode: 0 Status: OK PackageFile: fedup_1.18.0.tar.gz PackageFileSize: 4.701 MiB