Package: fdrame Version: 1.81.0 Command: /home/biocbuild/bbs-3.22-bioc/R/bin/R CMD INSTALL fdrame StartedAt: 2025-10-24 15:15:07 -0400 (Fri, 24 Oct 2025) EndedAt: 2025-10-24 15:15:36 -0400 (Fri, 24 Oct 2025) EllapsedTime: 28.5 seconds RetCode: 0 Status: OK