Package: fdrame Version: 1.81.0 Command: /home/biocbuild/bbs-3.22-bioc/R/bin/R CMD build --keep-empty-dirs --no-resave-data --md5 fdrame StartedAt: 2025-10-24 17:47:30 -0400 (Fri, 24 Oct 2025) EndedAt: 2025-10-24 17:47:37 -0400 (Fri, 24 Oct 2025) EllapsedTime: 7.0 seconds RetCode: 0 Status: OK PackageFile: fdrame_1.81.0.tar.gz PackageFileSize: 972.9 KiB