Package: fdrame Version: 1.81.0 Command: /Library/Frameworks/R.framework/Resources/bin/R CMD INSTALL fdrame StartedAt: 2025-10-24 15:05:19 -0400 (Fri, 24 Oct 2025) EndedAt: 2025-10-24 15:05:27 -0400 (Fri, 24 Oct 2025) EllapsedTime: 8.3 seconds RetCode: 0 Status: OK