Package: fdrame Version: 1.81.0 Command: /Library/Frameworks/R.framework/Resources/bin/R CMD build --keep-empty-dirs --no-resave-data fdrame StartedAt: 2025-10-24 16:26:04 -0400 (Fri, 24 Oct 2025) EndedAt: 2025-10-24 16:26:08 -0400 (Fri, 24 Oct 2025) EllapsedTime: 4.0 seconds RetCode: 0 Status: OK PackageFile: fdrame_1.81.0.tar.gz PackageFileSize: 972.4 KiB