Package: fcScan Version: 1.24.0 Command: /Library/Frameworks/R.framework/Resources/bin/R CMD INSTALL fcScan StartedAt: 2025-11-03 15:42:26 -0500 (Mon, 03 Nov 2025) EndedAt: 2025-11-03 15:43:17 -0500 (Mon, 03 Nov 2025) EllapsedTime: 51.5 seconds RetCode: 0 Status: OK