Package: fcScan Version: 1.24.0 Command: /Library/Frameworks/R.framework/Resources/bin/R CMD build --keep-empty-dirs --no-resave-data fcScan StartedAt: 2025-11-03 17:00:58 -0500 (Mon, 03 Nov 2025) EndedAt: 2025-11-03 17:02:18 -0500 (Mon, 03 Nov 2025) EllapsedTime: 80.5 seconds RetCode: 0 Status: OK PackageFile: fcScan_1.24.0.tar.gz PackageFileSize: 241.7 KiB