Package: fcScan Version: 1.23.0 Command: /Library/Frameworks/R.framework/Resources/bin/R CMD INSTALL fcScan StartedAt: 2025-10-24 15:23:45 -0400 (Fri, 24 Oct 2025) EndedAt: 2025-10-24 15:24:01 -0400 (Fri, 24 Oct 2025) EllapsedTime: 16.3 seconds RetCode: 0 Status: OK