Package: fcScan Version: 1.23.0 Command: /Library/Frameworks/R.framework/Resources/bin/R CMD build --keep-empty-dirs --no-resave-data fcScan StartedAt: 2025-10-24 16:26:04 -0400 (Fri, 24 Oct 2025) EndedAt: 2025-10-24 16:26:26 -0400 (Fri, 24 Oct 2025) EllapsedTime: 22.3 seconds RetCode: 0 Status: OK PackageFile: fcScan_1.23.0.tar.gz PackageFileSize: 241.9 KiB