Package: fastseg Version: 1.56.0 Command: /home/biocbuild/bbs-3.22-bioc/R/bin/R CMD check --install=check:fastseg.install-out.txt --library=/home/biocbuild/bbs-3.22-bioc/R/site-library --timings fastseg_1.56.0.tar.gz StartedAt: 2025-10-30 05:55:14 -0400 (Thu, 30 Oct 2025) EndedAt: 2025-10-30 05:56:44 -0400 (Thu, 30 Oct 2025) EllapsedTime: 90.1 seconds RetCode: 0 Status: OK CheckDir: fastseg.Rcheck Warnings: 0