Package: fastseg Version: 1.55.0 Command: /home/biocbuild/bbs-3.22-bioc/R/bin/R CMD build --keep-empty-dirs --no-resave-data --md5 fastseg StartedAt: 2025-10-24 17:46:36 -0400 (Fri, 24 Oct 2025) EndedAt: 2025-10-24 17:47:36 -0400 (Fri, 24 Oct 2025) EllapsedTime: 60.1 seconds RetCode: 0 Status: OK PackageFile: fastseg_1.55.0.tar.gz PackageFileSize: 718.9 KiB