Package: fastseg Version: 1.55.0 Command: /Library/Frameworks/R.framework/Resources/bin/R CMD INSTALL fastseg StartedAt: 2025-10-24 15:26:28 -0400 (Fri, 24 Oct 2025) EndedAt: 2025-10-24 15:26:46 -0400 (Fri, 24 Oct 2025) EllapsedTime: 17.6 seconds RetCode: 0 Status: OK