Package: fastseg Version: 1.55.0 Command: /Library/Frameworks/R.framework/Resources/bin/R CMD build --keep-empty-dirs --no-resave-data fastseg StartedAt: 2025-10-24 17:04:32 -0400 (Fri, 24 Oct 2025) EndedAt: 2025-10-24 17:05:24 -0400 (Fri, 24 Oct 2025) EllapsedTime: 52.0 seconds RetCode: 0 Status: OK PackageFile: fastseg_1.55.0.tar.gz PackageFileSize: 729.2 KiB