Package: fastseg Version: 1.55.0 Command: rm -rf fastseg.buildbin-libdir && mkdir fastseg.buildbin-libdir && /Users/biocbuild/BBS/utils/build-universal.sh fastseg_1.55.0.tar.gz /Library/Frameworks/R.framework/Resources/bin/R fastseg.buildbin-libdir StartedAt: 2025-10-26 22:35:36 -0400 (Sun, 26 Oct 2025) EndedAt: 2025-10-26 22:35:41 -0400 (Sun, 26 Oct 2025) EllapsedTime: 5.1 seconds RetCode: 0 Status: OK PackageFile: fastseg_1.55.0.tgz PackageFileSize: 764.8 KiB