Package: fastreeR Version: 1.99.8 Command: /home/biocbuild/bbs-3.22-bioc/R/bin/R CMD build --keep-empty-dirs --no-resave-data --md5 fastreeR StartedAt: 2025-10-24 17:46:24 -0400 (Fri, 24 Oct 2025) EndedAt: 2025-10-24 17:48:25 -0400 (Fri, 24 Oct 2025) EllapsedTime: 121.1 seconds RetCode: 0 Status: OK PackageFile: fastreeR_1.99.8.tar.gz PackageFileSize: 3.689 MiB