Package: fastreeR Version: 1.99.8 Command: /Library/Frameworks/R.framework/Resources/bin/R CMD INSTALL fastreeR StartedAt: 2025-10-26 15:04:02 -0400 (Sun, 26 Oct 2025) EndedAt: 2025-10-26 15:04:21 -0400 (Sun, 26 Oct 2025) EllapsedTime: 18.1 seconds RetCode: 0 Status: OK