Package: fastreeR Version: 1.99.8 Command: /Library/Frameworks/R.framework/Resources/bin/R CMD build --keep-empty-dirs --no-resave-data fastreeR StartedAt: 2025-10-26 16:27:45 -0400 (Sun, 26 Oct 2025) EndedAt: 2025-10-26 16:28:39 -0400 (Sun, 26 Oct 2025) EllapsedTime: 53.5 seconds RetCode: 0 Status: OK PackageFile: fastreeR_1.99.8.tar.gz PackageFileSize: 3.398 MiB