Package: fastreeR Version: 1.99.10 Command: rm -rf fastreeR.buildbin-libdir && mkdir fastreeR.buildbin-libdir && /Users/biocbuild/BBS/utils/build-universal.sh fastreeR_1.99.10.tar.gz /Library/Frameworks/R.framework/Resources/bin/R fastreeR.buildbin-libdir StartedAt: 2025-10-27 23:02:15 -0400 (Mon, 27 Oct 2025) EndedAt: 2025-10-27 23:02:17 -0400 (Mon, 27 Oct 2025) EllapsedTime: 2.0 seconds RetCode: 0 Status: OK PackageFile: fastreeR_1.99.10.tgz PackageFileSize: 3.442 MiB