Package: fastLiquidAssociation Version: 1.45.0 Command: /home/biocbuild/bbs-3.22-bioc/R/bin/R CMD INSTALL fastLiquidAssociation StartedAt: 2025-10-24 15:55:09 -0400 (Fri, 24 Oct 2025) EndedAt: 2025-10-24 15:55:30 -0400 (Fri, 24 Oct 2025) EllapsedTime: 21.2 seconds RetCode: 0 Status: OK