Package: fastLiquidAssociation Version: 1.45.0 Command: /home/biocbuild/bbs-3.22-bioc/R/bin/R CMD build --keep-empty-dirs --no-resave-data --md5 fastLiquidAssociation StartedAt: 2025-10-24 17:46:20 -0400 (Fri, 24 Oct 2025) EndedAt: 2025-10-24 17:47:49 -0400 (Fri, 24 Oct 2025) EllapsedTime: 89.1 seconds RetCode: 0 Status: OK PackageFile: fastLiquidAssociation_1.45.0.tar.gz PackageFileSize: 751.3 KiB