Package: faers Version: 1.5.2 Command: /home/biocbuild/bbs-3.22-bioc/R/bin/R CMD INSTALL faers StartedAt: 2025-10-24 15:18:44 -0400 (Fri, 24 Oct 2025) EndedAt: 2025-10-24 15:19:12 -0400 (Fri, 24 Oct 2025) EllapsedTime: 28.7 seconds RetCode: 0 Status: OK