Package: factR Version: 1.11.0 Command: /home/biocbuild/bbs-3.22-bioc/R/bin/R CMD INSTALL factR StartedAt: 2025-10-27 15:41:32 -0400 (Mon, 27 Oct 2025) EndedAt: 2025-10-27 15:41:42 -0400 (Mon, 27 Oct 2025) EllapsedTime: 9.1 seconds RetCode: 0 Status: OK