Package: factDesign Version: 1.85.0 Command: /Library/Frameworks/R.framework/Resources/bin/R CMD build --keep-empty-dirs --no-resave-data factDesign StartedAt: 2025-10-26 16:27:16 -0400 (Sun, 26 Oct 2025) EndedAt: 2025-10-26 16:27:20 -0400 (Sun, 26 Oct 2025) EllapsedTime: 4.0 seconds RetCode: 0 Status: OK PackageFile: factDesign_1.85.0.tar.gz PackageFileSize: 217 KiB