Package: fCCAC Version: 1.35.0 Command: /home/biocbuild/bbs-3.22-bioc/R/bin/R CMD build --keep-empty-dirs --no-resave-data --md5 fCCAC StartedAt: 2025-10-27 17:37:53 -0400 (Mon, 27 Oct 2025) EndedAt: 2025-10-27 17:39:04 -0400 (Mon, 27 Oct 2025) EllapsedTime: 71.1 seconds RetCode: 0 Status: OK PackageFile: fCCAC_1.35.0.tar.gz PackageFileSize: 3.499 MiB