Package: extraChIPs Version: 1.13.3 Command: /home/biocbuild/bbs-3.22-bioc/R/bin/R CMD INSTALL extraChIPs StartedAt: 2025-10-24 15:38:19 -0400 (Fri, 24 Oct 2025) EndedAt: 2025-10-24 15:39:00 -0400 (Fri, 24 Oct 2025) EllapsedTime: 40.8 seconds RetCode: 0 Status: OK