Package: evaluomeR Version: 1.25.0 Command: /home/biocbuild/bbs-3.22-bioc/R/bin/R CMD INSTALL evaluomeR StartedAt: 2025-10-24 15:43:40 -0400 (Fri, 24 Oct 2025) EndedAt: 2025-10-24 15:44:19 -0400 (Fri, 24 Oct 2025) EllapsedTime: 38.9 seconds RetCode: 0 Status: OK