Package: evaluomeR Version: 1.25.0 Command: /home/biocbuild/bbs-3.22-bioc/R/bin/R CMD build --keep-empty-dirs --no-resave-data --md5 evaluomeR StartedAt: 2025-10-24 17:44:31 -0400 (Fri, 24 Oct 2025) EndedAt: 2025-10-24 17:45:46 -0400 (Fri, 24 Oct 2025) EllapsedTime: 75.1 seconds RetCode: 0 Status: OK PackageFile: evaluomeR_1.25.0.tar.gz PackageFileSize: 1.113 MiB