Package: evaluomeR Version: 1.26.0 Command: /Library/Frameworks/R.framework/Resources/bin/R CMD INSTALL evaluomeR StartedAt: 2025-11-03 15:36:56 -0500 (Mon, 03 Nov 2025) EndedAt: 2025-11-03 15:37:50 -0500 (Mon, 03 Nov 2025) EllapsedTime: 54.3 seconds RetCode: 0 Status: OK