Package: evaluomeR Version: 1.26.0 Command: /Library/Frameworks/R.framework/Resources/bin/R CMD build --keep-empty-dirs --no-resave-data evaluomeR StartedAt: 2025-11-03 16:59:22 -0500 (Mon, 03 Nov 2025) EndedAt: 2025-11-03 17:00:38 -0500 (Mon, 03 Nov 2025) EllapsedTime: 76.6 seconds RetCode: 0 Status: OK PackageFile: evaluomeR_1.26.0.tar.gz PackageFileSize: 1.046 MiB