Package: esetVis Version: 1.36.0 Command: /home/biocbuild/bbs-3.22-bioc/R/bin/R CMD INSTALL esetVis StartedAt: 2025-11-03 15:32:50 -0500 (Mon, 03 Nov 2025) EndedAt: 2025-11-03 15:33:04 -0500 (Mon, 03 Nov 2025) EllapsedTime: 14.3 seconds RetCode: 0 Status: OK