Package: escheR Version: 1.9.0 Command: /home/biocbuild/bbs-3.22-bioc/R/bin/R CMD INSTALL escheR StartedAt: 2025-10-27 15:25:45 -0400 (Mon, 27 Oct 2025) EndedAt: 2025-10-27 15:26:11 -0400 (Mon, 27 Oct 2025) EllapsedTime: 25.2 seconds RetCode: 0 Status: OK