Package: escape Version: 2.6.1 Command: /home/biocbuild/bbs-3.22-bioc/R/bin/R CMD INSTALL escape StartedAt: 2025-11-16 15:19:03 -0500 (Sun, 16 Nov 2025) EndedAt: 2025-11-16 15:19:28 -0500 (Sun, 16 Nov 2025) EllapsedTime: 24.5 seconds RetCode: 0 Status: OK