Package: escape Version: 2.6.1 Command: /home/biocbuild/bbs-3.22-bioc/R/bin/R CMD build --keep-empty-dirs --no-resave-data --md5 escape StartedAt: 2025-11-16 17:41:12 -0500 (Sun, 16 Nov 2025) EndedAt: 2025-11-16 17:42:21 -0500 (Sun, 16 Nov 2025) EllapsedTime: 69.1 seconds RetCode: 0 Status: OK PackageFile: escape_2.6.1.tar.gz PackageFileSize: 1.597 MiB