Package: erccdashboard Version: 1.44.0 Command: /Library/Frameworks/R.framework/Resources/bin/R CMD INSTALL erccdashboard StartedAt: 2025-10-31 15:08:33 -0400 (Fri, 31 Oct 2025) EndedAt: 2025-10-31 15:08:38 -0400 (Fri, 31 Oct 2025) EllapsedTime: 5.1 seconds RetCode: 0 Status: OK