Package: erccdashboard Version: 1.44.0 Command: /Library/Frameworks/R.framework/Resources/bin/R CMD build --keep-empty-dirs --no-resave-data erccdashboard StartedAt: 2025-10-31 16:25:24 -0400 (Fri, 31 Oct 2025) EndedAt: 2025-10-31 16:25:44 -0400 (Fri, 31 Oct 2025) EllapsedTime: 20.2 seconds RetCode: 0 Status: OK PackageFile: erccdashboard_1.44.0.tar.gz PackageFileSize: 2.135 MiB