Package: erccdashboard Version: 1.44.0 Command: rm -rf erccdashboard.buildbin-libdir && mkdir erccdashboard.buildbin-libdir && /Users/biocbuild/BBS/utils/build-universal.sh erccdashboard_1.44.0.tar.gz /Library/Frameworks/R.framework/Resources/bin/R erccdashboard.buildbin-libdir StartedAt: 2025-11-02 23:04:17 -0500 (Sun, 02 Nov 2025) EndedAt: 2025-11-02 23:04:21 -0500 (Sun, 02 Nov 2025) EllapsedTime: 4.1 seconds RetCode: 0 Status: OK PackageFile: erccdashboard_1.44.0.tgz PackageFileSize: 2.668 MiB