Package: epivizrServer Version: 1.37.0 Command: /home/biocbuild/bbs-3.22-bioc/R/bin/R CMD build --keep-empty-dirs --no-resave-data --md5 epivizrServer StartedAt: 2025-10-24 17:43:06 -0400 (Fri, 24 Oct 2025) EndedAt: 2025-10-24 17:43:13 -0400 (Fri, 24 Oct 2025) EllapsedTime: 7.0 seconds RetCode: 0 Status: OK PackageFile: epivizrServer_1.37.0.tar.gz PackageFileSize: 230.9 KiB