Package: epivizrData Version: 1.37.2 Command: /home/biocbuild/bbs-3.22-bioc/R/bin/R CMD INSTALL epivizrData StartedAt: 2025-10-24 15:53:39 -0400 (Fri, 24 Oct 2025) EndedAt: 2025-10-24 15:54:21 -0400 (Fri, 24 Oct 2025) EllapsedTime: 41.9 seconds RetCode: 0 Status: OK