Package: epivizrChart Version: 1.32.0 Command: /home/biocbuild/bbs-3.22-bioc/R/bin/R CMD check --install=check:epivizrChart.install-out.txt --library=/home/biocbuild/bbs-3.22-bioc/R/site-library --timings epivizrChart_1.32.0.tar.gz StartedAt: 2025-11-14 23:35:36 -0500 (Fri, 14 Nov 2025) EndedAt: 2025-11-14 23:43:10 -0500 (Fri, 14 Nov 2025) EllapsedTime: 453.5 seconds RetCode: 0 Status: OK CheckDir: epivizrChart.Rcheck Warnings: 0