Package: epivizrChart Version: 1.31.0 Command: /home/biocbuild/bbs-3.22-bioc/R/bin/R CMD build --keep-empty-dirs --no-resave-data --md5 epivizrChart StartedAt: 2025-10-24 17:42:02 -0400 (Fri, 24 Oct 2025) EndedAt: 2025-10-24 17:44:31 -0400 (Fri, 24 Oct 2025) EllapsedTime: 149.1 seconds RetCode: 0 Status: OK PackageFile: epivizrChart_1.31.0.tar.gz PackageFileSize: 5.317 MiB