Package: epivizrChart Version: 1.31.0 Command: /Library/Frameworks/R.framework/Resources/bin/R CMD INSTALL epivizrChart StartedAt: 2025-10-27 15:36:33 -0400 (Mon, 27 Oct 2025) EndedAt: 2025-10-27 15:37:31 -0400 (Mon, 27 Oct 2025) EllapsedTime: 57.7 seconds RetCode: 0 Status: OK