Package: epivizrChart Version: 1.31.0 Command: /Library/Frameworks/R.framework/Resources/bin/R CMD build --keep-empty-dirs --no-resave-data epivizrChart StartedAt: 2025-10-27 16:21:36 -0400 (Mon, 27 Oct 2025) EndedAt: 2025-10-27 16:22:38 -0400 (Mon, 27 Oct 2025) EllapsedTime: 61.7 seconds RetCode: 0 Status: OK PackageFile: epivizrChart_1.31.0.tar.gz PackageFileSize: 5.315 MiB