Package: epivizrChart Version: 1.32.0 Maintainer: Hector Corrada Bravo MaintainerEmail: hcorrada at gmail.com git_url: https://git.bioconductor.org/packages/epivizrChart git_branch: RELEASE_3_22 git_last_commit: 86e97b3 git_last_commit_date: 2025-10-29 10:39:40 -0400 (Wed, 29 Oct 2025)